Workbook

Sheet Resumo
D5: Simples Nacional | E5: Lucro Presumido
C6: Linha 1 | D6: ='Trajeto 1'!E173 -> 6.4924672 | E6: ='Trajeto 1'!E174 -> 7.0906241
C7: Linha 2 | D7: ='Trajeto 2'!E173 -> 5.489464 | E7: ='Trajeto 2'!E174 -> 5.9104486
C8: Linha 3 | D8: ='Trajeto 3'!E173 -> 7.1663899 | E8: ='Trajeto 3'!E174 -> 7.7643404
C9: Linha 4 | D9: ='Trajeto 4'!E173 -> 4.9144309 | E9: ='Trajeto 4'!E174 -> 5.327536
C10: Linha 5 | D10: ='Trajeto 5'!E173 -> 5.4104683 | E10: ='Trajeto 5'!E174 -> 5.8846358
C11: Linha 6 | D11: ='Trajeto 6'!E173 -> 6.1923627 | E11: ='Trajeto 6'!E174 -> 6.7876715
C12: Linha 7 | D12: ='Trajeto 7'!E173 -> 5.684938 | E12: ='Trajeto 7'!E174 -> 6.1807391
C13: Linha 8 | D13: ='Trajeto 8'!E173 -> 5.8786262 | E13: ='Trajeto 8'!E174 -> 6.4329579

Sheet Trajeto 1
C1: Planilha de Custos por km rodado
B4: TRAJETO 1
B7: DADOS DO TRAJETO
B9: Objeto: | D9: Trajeto 5 | F9: Total de Usuários: | I9: =28*3 -> 84
B10: Dias letivos no ano: | D10: 204 | F10: Quilometragem diária (km): | I10: =I12/I11 -> 68.054091
B11: Meses de Transporte: | D11: 10 | F11: Média de dias letivos mês: | I11: 22
B12: Média de dias letivos mês: | D12: 22 | F12: Quilometragem mensal (km): | I12: 1497.19
F13: Quilometragem anual (km): | I13: =I12*D11 -> 14971.9
B16: HORÁRIO
B18: Percurso diário | D18: Início | F18: Término | H18: Total (h)
B19: 1 - (ida - manhã) | D19: 0.26041667 | F19: 0.29513889 | H19: =F19-D19 -> 0.034722222
B20: 2 - (volta - noite) | D20: 0.47916667 | F20: 0.52777778 | H20: =F20-D20 -> 0.048611111
B21: 2 - (ida - tarde) | D21: 0.70833333 | F21: 0.77083333 | H21: =F21-D21 -> 0.0625
B22: 3 - (volta - noite) | H22: =F22-D22 -> 0
B23: 3 - (ida - tarde) | D23: 0.94791667 | F23: 0.98611111 | H23: =F23-D23 -> 0.038194444
B24: 4 - (volta - noite) | H24: =F24-D24 -> 0
B25: TOTAL ACUMULADO EFETIVO | H25: =SUM(H19:I24) -> 0.18402778 | L25: =60*4+25 -> 265
L26: =L25/60 -> 4.4166667
B27: Horas de percurso efetivo e disponível | G27: Taxa de uso efetivo
B28: Percurso efetivo (dia) | C28: Disponível (dia) | D28: Acumulado (dia) | G28: Horas mensais efetivo (h) | I28: =B34*22 -> 91.52
B29: =H19 -> 0.034722222 | D29: =C29+B29 -> 0.034722222 | G29: horas mensais disponível (h) | I29: =C34*22 -> 0
B30: =H20 -> 0.048611111 | D30: =C30+B30 -> 0.048611111 | G30: Total (Efetivo + Disponível) - (h) | I30: =I28+I29 -> 91.52
B31: =H21 -> 0.0625 | D31: =C31+B31 -> 0.0625 | G31: Máx. de horas mensais permitidas (h) | I31: 220
B32: =H22 -> 0 | D32: =C32+B32 -> 0 | G32: Descanso remunerado (25% do total) | I32: =I30*0.25 -> 22.88
B33: =H23 -> 0.038194444 | D33: =C33+B33 -> 0.038194444 | G33: Taxa de uso efetivo | I33: =((I30+I32)/I31) -> 0.52
B34: 4.16 | D34: =SUM(B34:C34) -> 4.16
B36: DADOS E CUSTOS DO VEÍCULO
B38: Dados sobre o veículo de referência
B39: Média preços veiculo de 28 lugares
B40: Capacidade mínima | E40: 28
B41: Combustível | E41: diesel
B42: Ano Modelo | E42: 2022
B43: Valor do Veículo | E43: 494300
B44: Depreciação por ano (sobre o valor atual) | E44: 0.0333
B45: Valor residual | E45: =E43*0.9 -> 444870
B46: Vida útil adotada | E46: 25
B47: Idade do veículo | E47: 1 ano
B48: Anos para a depreciação total | E48: 30
B50: Quadro 1 - Despesas com manutenção
C51: Periodicidade | D51: Consumo por | E51: Valor | F51: Valor total | G51: Valor mensal
...

Sheet Trajeto 2
C1: Planilha de Custos por km rodado
B4: TRAJETO 2
B7: DADOS DO TRAJETO
B9: Objeto: | D9: Trajeto 5 | F9: Total de Usuários: | I9: 60
B10: Dias letivos no ano: | D10: 204 | F10: Quilometragem diária (km): | I10: =I12/I11 -> 78.37
B11: Meses de Transporte: | D11: 10 | F11: Média de dias letivos mês: | I11: 22
B12: Média de dias letivos mês: | D12: 22 | F12: Quilometragem mensal (km): | I12: 1724.14
F13: Quilometragem anual (km): | I13: =I12*D11 -> 17241.4
B16: HORÁRIO
B18: Percurso diário | D18: Início | F18: Término | H18: Total (h)
B19: 1 - (ida - manhã) | D19: 0.25 | F19: 0.29166667 | H19: =F19-D19 -> 0.041666667
B20: 2 - (volta - manhã) | D20: 0.47916667 | F20: 0.52083333 | H20: =F20-D20 -> 0.041666667 | L20: =4*60+10 -> 250
B21: 3 - (ida - tarde) | H21: =F21-D21 -> 0
B22: 4 - (volta - tarde) | H22: =F22-D22 -> 0
B23: 5 - (ida - noite) | D23: 0.70833333 | F23: 0.76041667 | H23: =F23-D23 -> 0.052083333
B24: 6 - (volta - noite) | D24: 0.94791667 | F24: 0.98611111 | H24: =F24-D24 -> 0.038194444
B25: TOTAL ACUMULADO EFETIVO | H25: =SUM(H19:I24) -> 0.17361111 | L25: =L20 -> 250
L26: =L25/60 -> 4.1666667
B27: Horas de percurso efetivo e disponível | G27: Taxa de uso efetivo
B28: Percurso efetivo (dia) | C28: Disponível (dia) | D28: Acumulado (dia) | G28: Horas mensais efetivo (h) | I28: =B34*22 -> 91.52
B29: =H19 -> 0.041666667 | C29: 0.034722222 | D29: =C29+B29 -> 0.076388889 | G29: horas mensais disponível (h) | I29: =C34*22 -> 55 | L29: =75/60 -> 1.25
B30: =H20 -> 0.041666667 | C30: 0.034722222 | D30: =C30+B30 -> 0.076388889 | G30: Total (Efetivo + Disponível) - (h) | I30: =I28+I29 -> 146.52
B31: =H21 -> 0 | D31: =C31+B31 -> 0 | G31: Máx. de horas mensais permitidas (h) | I31: 220
B32: =H22 -> 0 | D32: =C32+B32 -> 0 | G32: Descanso remunerado (25% do total) | I32: =I30*0.25 -> 36.63
B33: =H23 -> 0.052083333 | C33: 0.034722222 | D33: =C33+B33 -> 0.086805556 | G33: Taxa de uso efetivo | I33: =((I30+I32)/I31) -> 0.8325
B34: 4.16 | C34: 2.5 | D34: =SUM(B34:C34) -> 6.66
B36: DADOS E CUSTOS DO VEÍCULO
B38: Dados sobre o veículo de referência
B39: Média preços veiculo de 15 lugares
B40: Capacidade mínima | E40: 15
B41: Combustível | E41: diesel
B42: Ano Modelo | E42: 2022
B43: Valor do Veículo | E43: 240000
B44: Depreciação por ano (sobre o valor atual) | E44: 0.1
B45: Valor residual | E45: =E43*0.9 -> 216000
B46: Vida útil adotada | E46: ='Trajeto 1'!E46 -> 25
B47: Idade do veículo | E47: ='Trajeto 1'!E47 -> 1 ano
B48: Anos para a depreciação total | E48: ='Trajeto 1'!E48 -> 30
B50: Quadro 1 - Despesas com manutenção
C51: Periodicidade | D51: Consumo por | E51: Valor | F51: Valor total | G51: Valor mensal
...

Sheet Trajeto 3
C1: Planilha de Custos por km rodado
B4: TRAJETO 5
B7: DADOS DO TRAJETO
B9: Objeto: | D9: Trajeto 5 | F9: Total de Usuários: | I9: =48*4 -> 192
B10: Dias letivos no ano: | D10: 204 | F10: Quilometragem diária (km): | I10: =I12/I11 -> 75.58
B11: Meses de Transporte: | D11: 10 | F11: Média de dias letivos mês: | I11: 22
B12: Média de dias letivos mês: | D12: 22 | F12: Quilometragem mensal (km): | I12: 1662.76
F13: Quilometragem anual (km): | I13: =I12*D11 -> 16627.6
B16: HORÁRIO
B18: Percurso diário | D18: Início | F18: Término | H18: Total (h)
B19: 1 - (ida - manhã) | D19: 0.25 | F19: 0.30208333 | H19: =F19-D19 -> 0.052083333
B20: 2 - (volta - manhã) | D20: 0.47222222 | F20: 0.53819444 | H20: =F20-D20 -> 0.065972222
B21: 3 - (ida - tarde) | H21: =F21-D21 -> 0
B22: 4 - (volta - noite) | D22: 0.94791667 | F22: 0.98611111 | H22: =F22-D22 -> 0.038194444
H23: =F23-D23 -> 0
H24: =F24-D24 -> 0
B25: TOTAL ACUMULADO EFETIVO | H25: =SUM(H19:I24) -> 0.15625 | L25: =60*3+45 -> 225
L26: =L25/60 -> 3.75
B27: Horas de percurso efetivo e disponível | G27: Taxa de uso efetivo
B28: Percurso efetivo (dia) | C28: Disponível (dia) | D28: Acumulado (dia) | G28: Horas mensais efetivo (h) | I28: =B34*22 -> 82.5
B29: =H19 -> 0.052083333 | C29: 0.020833333 | D29: =C29+B29 -> 0.072916667 | G29: horas mensais disponível (h) | I29: =C34*22 -> 33
B30: =H20 -> 0.065972222 | C30: 0.020833333 | D30: =C30+B30 -> 0.086805556 | G30: Total (Efetivo + Disponível) - (h) | I30: =I28+I29 -> 115.5
B31: =H21 -> 0 | D31: =C31+B31 -> 0 | G31: Máx. de horas mensais permitidas (h) | I31: 220
B32: =H22 -> 0.038194444 | C32: 0.020833333 | D32: =C32+B32 -> 0.059027778 | G32: Descanso remunerado (25% do total) | I32: =I30*0.25 -> 28.875
B33: =H23 -> 0 | D33: =C33+B33 -> 0 | G33: Taxa de uso efetivo | I33: =((I30+I32)/I31) -> 0.65625
B34: =L26 -> 3.75 | C34: 1.5 | D34: =SUM(B34:C34) -> 5.25
B36: DADOS E CUSTOS DO VEÍCULO
B38: Dados sobre o veículo de referência
B39: Média preços veiculo de 28 lugares
B40: Capacidade mínima | E40: 28
B41: Combustível | E41: diesel
B42: Ano Modelo | E42: 2022
B43: Valor do Veículo | E43: 540156
B44: Depreciação por ano (sobre o valor atual) | E44: 0.1
B45: Valor residual | E45: =E43*0.9 -> 486140.4
B46: Vida útil adotada | E46: ='Trajeto 2'!E46 -> 25
B47: Idade do veículo | E47: ='Trajeto 2'!E47 -> 1 ano
B48: Anos para a depreciação total | E48: ='Trajeto 2'!E48 -> 30
B50: Quadro 1 - Despesas com manutenção
C51: Periodicidade | D51: Consumo por | E51: Valor | F51: Valor total | G51: Valor mensal
...

Sheet Trajeto 4
C1: Planilha de Custos por km rodado
B4: TRAJETO 5
B7: DADOS DO TRAJETO
B9: Objeto: | D9: Trajeto 5 | F9: Total de Usuários: | I9: =48*4 -> 192
B10: Dias letivos no ano: | D10: 204 | F10: Quilometragem diária (km): | I10: =I12/I11 -> 116.31818
B11: Meses de Transporte: | D11: 10 | F11: Média de dias letivos mês: | I11: 22
B12: Média de dias letivos mês: | D12: 22 | F12: Quilometragem mensal (km): | I12: 2559
F13: Quilometragem anual (km): | I13: =I12*D11 -> 25590
B16: HORÁRIO
B18: Percurso diário | D18: Início | F18: Término | H18: Total (h)
B19: 1 - (ida - manhã) | D19: 0.25 | F19: 0.30208333 | H19: =F19-D19 -> 0.052083333
B20: 2 - (volta - manhã) | D20: 0.47222222 | F20: 0.53819444 | H20: =F20-D20 -> 0.065972222
B21: 3 - (ida - tarde) | H21: =F21-D21 -> 0
B22: 4 - (volta - noite) | D22: 0.94791667 | F22: 0.98611111 | H22: =F22-D22 -> 0.038194444
H23: =F23-D23 -> 0
H24: =F24-D24 -> 0
B25: TOTAL ACUMULADO EFETIVO | H25: =SUM(H19:I24) -> 0.15625 | L25: =60*3+45 -> 225
L26: =L25/60 -> 3.75
B27: Horas de percurso efetivo e disponível | G27: Taxa de uso efetivo
B28: Percurso efetivo (dia) | C28: Disponível (dia) | D28: Acumulado (dia) | G28: Horas mensais efetivo (h) | I28: =B34*22 -> 75.9
B29: =H19 -> 0.052083333 | C29: 0.020833333 | D29: =C29+B29 -> 0.072916667 | G29: horas mensais disponível (h) | I29: =C34*22 -> 33
B30: =H20 -> 0.065972222 | C30: 0.020833333 | D30: =C30+B30 -> 0.086805556 | G30: Total (Efetivo + Disponível) - (h) | I30: =I28+I29 -> 108.9
B31: =H21 -> 0 | D31: =C31+B31 -> 0 | G31: Máx. de horas mensais permitidas (h) | I31: 220
B32: =H22 -> 0.038194444 | C32: 0.020833333 | D32: =C32+B32 -> 0.059027778 | G32: Descanso remunerado (25% do total) | I32: =I30*0.25 -> 27.225
B33: =H23 -> 0 | D33: =C33+B33 -> 0 | G33: Taxa de uso efetivo | I33: =((I30+I32)/I31) -> 0.61875
B34: 3.45 | C34: 1.5 | D34: =SUM(B34:C34) -> 4.95
B36: DADOS E CUSTOS DO VEÍCULO
B38: Dados sobre o veículo de referência
B39: Média preços veiculo de 28 lugares
B40: Capacidade mínima | E40: 28
B41: Combustível | E41: diesel
B42: Ano Modelo | E42: 2022
B43: Valor do Veículo | E43: 540156
B44: Depreciação por ano (sobre o valor atual) | E44: 0.1
B45: Valor residual | E45: =E43*0.9 -> 486140.4
B46: Vida útil adotada | E46: 10 anos
B47: Idade do veículo | E47: 1 ano
B48: Anos para a depreciação total | E48: 9 anos
B50: Quadro 1 - Despesas com manutenção
C51: Periodicidade | D51: Consumo por | E51: Valor | F51: Valor total | G51: Valor mensal
...

Sheet Trajeto 5
C1: Planilha de Custos por km rodado
B4: TRAJETO 5
B7: DADOS DO TRAJETO
B9: Objeto: | D9: Trajeto 5 | F9: Total de Usuários: | I9: =28*3 -> 84
B10: Dias letivos no ano: | D10: 204 | F10: Quilometragem diária (km): | I10: =I12/I11 -> 92.636364
B11: Meses de Transporte: | D11: 10 | F11: Média de dias letivos mês: | I11: 22
B12: Média de dias letivos mês: | D12: 22 | F12: Quilometragem mensal (km): | I12: 2038
F13: Quilometragem anual (km): | I13: =I12*D11 -> 20380
B16: HORÁRIO
B18: Percurso diário | D18: Início | F18: Término | H18: Total (h)
B19: 1 - (ida - manhã) | D19: 0.25 | F19: 0.29166667 | H19: =F19-D19 -> 0.041666667
B20: 2 - (volta - manhã) | D20: 0.47916667 | F20: 0.52777778 | H20: =F20-D20 -> 0.048611111
B21: 3 - (ida - tarde) | D21: 0.70833333 | F21: 0.77083333 | H21: =F21-D21 -> 0.0625
B22: 4 - (volta - noite) | D22: 0.94791667 | F22: 0.98611111 | H22: =F22-D22 -> 0.038194444
H23: =F23-D23 -> 0
H24: =F24-D24 -> 0
B25: TOTAL ACUMULADO EFETIVO | H25: =SUM(H19:I24) -> 0.19097222 | L25: =60*4+35 -> 275
L26: =L25/60 -> 4.5833333
B27: Horas de percurso efetivo e disponível | G27: Taxa de uso efetivo
B28: Percurso efetivo (dia) | C28: Disponível (dia) | D28: Acumulado (dia) | G28: Horas mensais efetivo (h) | I28: =B34*22 -> 100.76
B29: =H19 -> 0.041666667 | D29: =C29+B29 -> 0.041666667 | G29: horas mensais disponível (h) | I29: =C34*22 -> 0
B30: =H20 -> 0.048611111 | D30: =C30+B30 -> 0.048611111 | G30: Total (Efetivo + Disponível) - (h) | I30: =I28+I29 -> 100.76
B31: =H21 -> 0.0625 | D31: =C31+B31 -> 0.0625 | G31: Máx. de horas mensais permitidas (h) | I31: 220
B32: =H22 -> 0.038194444 | D32: =C32+B32 -> 0.038194444 | G32: Descanso remunerado (25% do total) | I32: =I30*0.25 -> 25.19
B33: =H23 -> 0 | D33: =C33+B33 -> 0 | G33: Taxa de uso efetivo | I33: =((I30+I32)/I31) -> 0.5725
B34: 4.58 | D34: =SUM(B34:C34) -> 4.58
B36: DADOS E CUSTOS DO VEÍCULO
B38: Dados sobre o veículo de referência
B39: Média preços veiculo de 28 lugares
B40: Capacidade mínima | E40: 28
B41: Combustível | E41: diesel
B42: Ano Modelo | E42: 2022
B43: Valor do Veículo | E43: 494300
B44: Depreciação por ano (sobre o valor atual) | E44: 0.1
B45: Valor residual | E45: =E43*0.9 -> 444870
B46: Vida útil adotada | E46: 10 anos
B47: Idade do veículo | E47: 1 ano
B48: Anos para a depreciação total | E48: 9 anos
B50: Quadro 1 - Despesas com manutenção
C51: Periodicidade | D51: Consumo por | E51: Valor | F51: Valor total | G51: Valor mensal
...

Sheet Trajeto 6
C1: Planilha de Custos por km rodado
B4: TRAJETO 6
B7: DADOS DO TRAJETO
B9: Objeto: | D9: Trajeto 5 | F9: Total de Usuários: | I9: =28*3 -> 84
B10: Dias letivos no ano: | D10: 204 | F10: Quilometragem diária (km): | I10: =I12/I11 -> 66.43
B11: Meses de Transporte: | D11: 10 | F11: Média de dias letivos mês: | I11: 22
B12: Média de dias letivos mês: | D12: 22 | F12: Quilometragem mensal (km): | I12: 1461.46
F13: Quilometragem anual (km): | I13: =I12*D11 -> 14614.6
B16: HORÁRIO
B18: Percurso diário | D18: Início | F18: Término | H18: Total (h) | L18: =80/60 -> 1.3333333
B19: 1 - (ida - tarde) | D19: 0.76041667 | F19: 0.8125 | H19: =F19-D19 -> 0.052083333
B20: 2 - (volta - noite) | D20: 0.9375 | F20: 0.98611111 | H20: =F20-D20 -> 0.048611111
H21: =F21-D21 -> 0
H22: =F22-D22 -> 0
H23: =F23-D23 -> 0
H24: =F24-D24 -> 0
B25: TOTAL ACUMULADO EFETIVO | H25: =SUM(H19:I24) -> 0.10069444 | L25: =60*2+25 -> 145
L26: =L25/60 -> 2.4166667
B27: Horas de percurso efetivo e disponível | G27: Taxa de uso efetivo
B28: Percurso efetivo (dia) | C28: Disponível (dia) | D28: Acumulado (dia) | G28: Horas mensais efetivo (h) | I28: =B34*22 -> 53.02
B29: =H19 -> 0.052083333 | C29: 0.027777778 | D29: =C29+B29 -> 0.079861111 | G29: horas mensais disponível (h) | I29: =C34*22 -> 29.26
B30: =H20 -> 0.048611111 | C30: 0.027777778 | D30: =C30+B30 -> 0.076388889 | G30: Total (Efetivo + Disponível) - (h) | I30: =I28+I29 -> 82.28
B31: =H21 -> 0 | D31: =C31+B31 -> 0 | G31: Máx. de horas mensais permitidas (h) | I31: 220
B32: =H22 -> 0 | D32: =C32+B32 -> 0 | G32: Descanso remunerado (25% do total) | I32: =I30*0.25 -> 20.57
B33: =H23 -> 0 | D33: =C33+B33 -> 0 | G33: Taxa de uso efetivo | I33: =((I30+I32)/I31) -> 0.4675
B34: 2.41 | C34: 1.33 | D34: =SUM(B34:C34) -> 3.74
B36: DADOS E CUSTOS DO VEÍCULO
B38: Dados sobre o veículo de referência
B39: Média preços veiculo de 28 lugares
B40: Capacidade mínima | E40: 28
B41: Combustível | E41: diesel
B42: Ano Modelo | E42: 2022
B43: Valor do Veículo | E43: 494300
B44: Depreciação por ano (sobre o valor atual) | E44: 0.1
B45: Valor residual | E45: =E43*0.9 -> 444870
B46: Vida útil adotada | E46: 10 anos
B47: Idade do veículo | E47: 1 ano
B48: Anos para a depreciação total | E48: 9 anos
B50: Quadro 1 - Despesas com manutenção
C51: Periodicidade | D51: Consumo por | E51: Valor | F51: Valor total | G51: Valor mensal
...

Sheet Trajeto 7
C1: Planilha de Custos por km rodado
B4: TRAJETO 7
B7: DADOS DO TRAJETO
B9: Objeto: | D9: Trajeto 5 | F9: Total de Usuários: | I9: =28*3 -> 84
B10: Dias letivos no ano: | D10: 204 | F10: Quilometragem diária (km): | I10: =I12/I11 -> 88.218182
B11: Meses de Transporte: | D11: 10 | F11: Média de dias letivos mês: | I11: 22
B12: Média de dias letivos mês: | D12: 22 | F12: Quilometragem mensal (km): | I12: 1940.8
F13: Quilometragem anual (km): | I13: =I12*D11 -> 19408
B16: HORÁRIO
B18: Percurso diário | D18: Início | F18: Término | H18: Total (h)
B19: 1 - (ida - manhã) | D19: 0.26388889 | F19: 0.30555556 | H19: =F19-D19 -> 0.041666667
B20: 2 - (volta - manhã) | D20: 0.47916667 | F20: 0.54166667 | H20: =F20-D20 -> 0.0625 | L20: =4*60+40 -> 280
B21: 3 - (ida - tarde) | H21: =F21-D21 -> 0
B22: 4 - (volta - tarde) | H22: =F22-D22 -> 0
B23: 5 - (ida - noite) | D23: 0.70833333 | F23: 0.76041667 | H23: =F23-D23 -> 0.052083333
B24: 6 - (volta - noite) | D24: 0.94791667 | F24: 0.98611111 | H24: =F24-D24 -> 0.038194444
B25: TOTAL ACUMULADO EFETIVO | H25: =SUM(H19:I24) -> 0.19444444 | L25: 280
L26: =L25/60 -> 4.6666667
B27: Horas de percurso efetivo e disponível | G27: Taxa de uso efetivo
B28: Percurso efetivo (dia) | C28: Disponível (dia) | D28: Acumulado (dia) | G28: Horas mensais efetivo (h) | I28: =B34*22 -> 102.66667
B29: =H19 -> 0.041666667 | D29: =C29+B29 -> 0.041666667 | G29: horas mensais disponível (h) | I29: =C34*22 -> 0
B30: =H20 -> 0.0625 | D30: =C30+B30 -> 0.0625 | G30: Total (Efetivo + Disponível) - (h) | I30: =I28+I29 -> 102.66667
B31: =H21 -> 0 | D31: =C31+B31 -> 0 | G31: Máx. de horas mensais permitidas (h) | I31: 220
B32: =H22 -> 0 | D32: =C32+B32 -> 0 | G32: Descanso remunerado (25% do total) | I32: =I30*0.25 -> 25.666667
B33: =H23 -> 0.052083333 | D33: =C33+B33 -> 0.052083333 | G33: Taxa de uso efetivo | I33: =((I30+I32)/I31) -> 0.58333333
B34: =L26 -> 4.6666667 | D34: =SUM(B34:C34) -> 4.6666667
B36: DADOS E CUSTOS DO VEÍCULO
B38: Dados sobre o veículo de referência
B39: Média preços veiculo de 28 lugares
B40: Capacidade mínima | E40: 28
B41: Combustível | E41: diesel
B42: Ano Modelo | E42: 2022
B43: Valor do Veículo | E43: 494300
B44: Depreciação por ano (sobre o valor atual) | E44: 0.1
B45: Valor residual | E45: =E43*0.9 -> 444870
B46: Vida útil adotada | E46: 10 anos
B47: Idade do veículo | E47: 1 ano
B48: Anos para a depreciação total | E48: 9 anos
B50: Quadro 1 - Despesas com manutenção
C51: Periodicidade | D51: Consumo por | E51: Valor | F51: Valor total | G51: Valor mensal
...

Sheet Trajeto 8
C1: Planilha de Custos por km rodado
B4: TRAJETO 8
B7: DADOS DO TRAJETO
B9: Objeto: | D9: Trajeto 5 | F9: Total de Usuários: | I9: 60
B10: Dias letivos no ano: | D10: 204 | F10: Quilometragem diária (km): | I10: =I12/I11 -> 49.585909
B11: Meses de Transporte: | D11: 10 | F11: Média de dias letivos mês: | I11: 22
B12: Média de dias letivos mês: | D12: 22 | F12: Quilometragem mensal (km): | I12: 1090.89
F13: Quilometragem anual (km): | I13: =I12*D11 -> 10908.9
B16: HORÁRIO
B18: Percurso diário | D18: Início | F18: Término | H18: Total (h)
B19: 1 - (ida - manhã) | D19: 0.27083333 | F19: 0.29166667 | H19: =F19-D19 -> 0.020833333
B20: 2 - (volta - manhã) | D20: 0.47916667 | F20: 0.52083333 | H20: =F20-D20 -> 0.041666667 | L20: =3*60+40 -> 220
B21: 3 - (ida - tarde) | H21: =F21-D21 -> 0
B22: 4 - (volta - tarde) | H22: =F22-D22 -> 0
B23: 5 - (ida - noite) | D23: 0.70833333 | F23: 0.76041667 | H23: =F23-D23 -> 0.052083333
B24: 6 - (volta - noite) | D24: 0.94791667 | F24: 0.98611111 | H24: =F24-D24 -> 0.038194444
B25: TOTAL ACUMULADO EFETIVO | H25: =SUM(H19:I24) -> 0.15277778 | L25: =L20 -> 220
L26: =L25/60 -> 3.6666667
B27: Horas de percurso efetivo e disponível | G27: Taxa de uso efetivo
B28: Percurso efetivo (dia) | C28: Disponível (dia) | D28: Acumulado (dia) | G28: Horas mensais efetivo (h) | I28: =B34*22 -> 80.666667
B29: =H19 -> 0.020833333 | C29: 0.010416667 | D29: =C29+B29 -> 0.03125 | G29: horas mensais disponível (h) | I29: =C34*22 -> 11
B30: =H20 -> 0.041666667 | C30: 0.010416667 | D30: =C30+B30 -> 0.052083333 | G30: Total (Efetivo + Disponível) - (h) | I30: =I28+I29 -> 91.666667
B31: =H21 -> 0 | D31: =C31+B31 -> 0 | G31: Máx. de horas mensais permitidas (h) | I31: 220
B32: =H22 -> 0 | D32: =C32+B32 -> 0 | G32: Descanso remunerado (25% do total) | I32: =I30*0.25 -> 22.916667
B33: =H23 -> 0.052083333 | D33: =C33+B33 -> 0.052083333 | G33: Taxa de uso efetivo | I33: =((I30+I32)/I31) -> 0.52083333
B34: =L26 -> 3.6666667 | C34: 0.5 | D34: =SUM(B34:C34) -> 4.1666667
B36: DADOS E CUSTOS DO VEÍCULO
B38: Dados sobre o veículo de referência
B39: Média preços veiculo de 15 lugares
B40: Capacidade mínima | E40: 15
B41: Combustível | E41: diesel
B42: Ano Modelo | E42: 2022
B43: Valor do Veículo | E43: 240000
B44: Depreciação por ano (sobre o valor atual) | E44: 0.1
B45: Valor residual | E45: =E43*0.9 -> 216000
B46: Vida útil adotada | E46: 10 anos
B47: Idade do veículo | E47: 1 ano
B48: Anos para a depreciação total | E48: 9 anos
B50: Quadro 1 - Despesas com manutenção
C51: Periodicidade | D51: Consumo por | E51: Valor | F51: Valor total | G51: Valor mensal
...
